BEGIN:VCALENDAR
VERSION:2.0
PRODID:spatie/icalendar-generator
DESCRIPTION:Evenementen van Animo Happy Voices
X-WR-CALDESC:Evenementen van Animo Happy Voices
REFRESH-INTERVAL;VALUE=DURATION:PT1440M
X-PUBLISHED-TTL:PT1440M
BEGIN:VTIMEZONE
TZID:Europe/Amsterdam
BEGIN:STANDARD
DTSTART:20251026T030000Z
TZOFFSETFROM:+0200
TZOFFSETTO:+0100
END:STANDARD
BEGIN:DAYLIGHT
DTSTART:20260329T020000Z
TZOFFSETFROM:+0100
TZOFFSETTO:+0200
END:DAYLIGHT
END:VTIMEZONE
BEGIN:VTIMEZONE
TZID:UTC
BEGIN:STANDARD
DTSTART:20250724T090712Z
TZOFFSETFROM:+0000
TZOFFSETTO:+0000
END:STANDARD
END:VTIMEZONE
BEGIN:VEVENT
UID:23-22
DTSTAMP:20260420T090712Z
SUMMARY: Halve repetitie Met Vocalgroup Joy. In de Bantuin
LOCATION:
ORGANIZER;CN=Jorn Crommentuijn:MAILTO:info@jdwebinnovations.nl
DTSTART;TZID=Europe/Amsterdam:20260407T000000
DTEND;TZID=Europe/Amsterdam:20260407T010000
X-ALT-DESC;FMTTYPE=TEXT/HTML: Halve repetitie Met Vocalgroup Joy. In de Ba
 ntuin
CATEGORIES:General
URL;VALUE=URI:https://www.animobelfeld1965.nl/mc-events/halve-repetitie-met
 -vocalgroup-joy-in-de-bantuin/
METHOD:PUBLISH
END:VEVENT
END:VCALENDAR