BEGIN:VCALENDAR
VERSION:2.0
PRODID:spatie/icalendar-generator
DESCRIPTION:Evenementen van Animo Happy Voices
X-WR-CALDESC:Evenementen van Animo Happy Voices
REFRESH-INTERVAL;VALUE=DURATION:PT1440M
X-PUBLISHED-TTL:PT1440M
BEGIN:VTIMEZONE
TZID:Europe/Amsterdam
BEGIN:DAYLIGHT
DTSTART:20260329T020000Z
TZOFFSETFROM:+0100
TZOFFSETTO:+0200
END:DAYLIGHT
BEGIN:STANDARD
DTSTART:20261025T030000Z
TZOFFSETFROM:+0200
TZOFFSETTO:+0100
END:STANDARD
END:VTIMEZONE
BEGIN:VTIMEZONE
TZID:UTC
BEGIN:STANDARD
DTSTART:20250724T085312Z
TZOFFSETFROM:+0000
TZOFFSETTO:+0000
END:STANDARD
END:VTIMEZONE
BEGIN:VEVENT
UID:28-27
DTSTAMP:20260420T085312Z
SUMMARY:Start repetitie
LOCATION:
ORGANIZER;CN=Jorn Crommentuijn:MAILTO:info@jdwebinnovations.nl
DTSTART;TZID=Europe/Amsterdam:20260824T000000
DTEND;TZID=Europe/Amsterdam:20260824T010000
X-ALT-DESC;FMTTYPE=TEXT/HTML:Start repetitie
CATEGORIES:General
URL;VALUE=URI:https://www.animobelfeld1965.nl/mc-events/start-repetitie/
METHOD:PUBLISH
END:VEVENT
END:VCALENDAR